Package: motifmatchr Version: 1.29.0 Command: /home/biocbuild/R/R/bin/R CMD INSTALL motifmatchr StartedAt: 2025-01-29 19:56:43 -0000 (Wed, 29 Jan 2025) EndedAt: 2025-01-29 19:58:24 -0000 (Wed, 29 Jan 2025) EllapsedTime: 101.4 seconds RetCode: 0 Status: OK