Package: motifmatchr Version: 1.29.0 Command: /Library/Frameworks/R.framework/Resources/bin/R CMD build --keep-empty-dirs --no-resave-data motifmatchr StartedAt: 2025-02-05 17:29:03 -0500 (Wed, 05 Feb 2025) EndedAt: 2025-02-05 17:31:34 -0500 (Wed, 05 Feb 2025) EllapsedTime: 151.1 seconds RetCode: 0 Status: OK PackageFile: motifmatchr_1.29.0.tar.gz PackageFileSize: 51.96 KiB