Package: motifmatchr Version: 1.29.0 Command: /Library/Frameworks/R.framework/Resources/bin/R CMD check --install=check:motifmatchr.install-out.txt --library=/Library/Frameworks/R.framework/Resources/library --no-vignettes --timings motifmatchr_1.29.0.tar.gz StartedAt: 2025-02-05 21:48:16 -0500 (Wed, 05 Feb 2025) EndedAt: 2025-02-05 21:53:40 -0500 (Wed, 05 Feb 2025) EllapsedTime: 324.1 seconds RetCode: 0 Status: OK CheckDir: motifmatchr.Rcheck Warnings: 0