Package: motifmatchr Version: 1.29.0 Command: /Library/Frameworks/R.framework/Resources/bin/R CMD INSTALL motifmatchr StartedAt: 2025-02-05 15:20:52 -0500 (Wed, 05 Feb 2025) EndedAt: 2025-02-05 15:22:10 -0500 (Wed, 05 Feb 2025) EllapsedTime: 78.1 seconds RetCode: 0 Status: OK