Package: motifmatchr Version: 1.29.0 Command: /home/biocbuild/bbs-3.21-bioc/R/bin/R CMD build --keep-empty-dirs --no-resave-data motifmatchr StartedAt: 2025-02-05 18:15:31 -0500 (Wed, 05 Feb 2025) EndedAt: 2025-02-05 18:17:30 -0500 (Wed, 05 Feb 2025) EllapsedTime: 119.1 seconds RetCode: 0 Status: OK PackageFile: motifmatchr_1.29.0.tar.gz PackageFileSize: 52.07 KiB