Package: motifmatchr Version: 1.29.0 Command: /home/biocbuild/bbs-3.21-bioc/R/bin/R CMD INSTALL motifmatchr StartedAt: 2025-02-05 15:51:08 -0500 (Wed, 05 Feb 2025) EndedAt: 2025-02-05 15:52:13 -0500 (Wed, 05 Feb 2025) EllapsedTime: 64.7 seconds RetCode: 0 Status: OK