Package: motifmatchr Version: 1.29.0 Command: chmod a+r motifmatchr -R && E:\biocbuild\bbs-3.21-bioc\R\bin\R.exe CMD build --keep-empty-dirs --no-resave-data motifmatchr StartedAt: 2025-02-05 20:10:35 -0500 (Wed, 05 Feb 2025) EndedAt: 2025-02-05 20:15:03 -0500 (Wed, 05 Feb 2025) EllapsedTime: 267.9 seconds RetCode: 0 Status: OK PackageFile: motifmatchr_1.29.0.tar.gz PackageFileSize: 52.18 KiB