Package: mpra Version: 1.29.0 Command: rm -rf mpra.buildbin-libdir && mkdir mpra.buildbin-libdir && /Users/biocbuild/BBS/utils/build-universal.sh mpra_1.29.0.tar.gz /Library/Frameworks/R.framework/Resources/bin/R mpra.buildbin-libdir StartedAt: 2025-02-09 22:22:15 -0500 (Sun, 09 Feb 2025) EndedAt: 2025-02-09 22:22:25 -0500 (Sun, 09 Feb 2025) EllapsedTime: 10.2 seconds RetCode: 0 Status: OK PackageFile: mpra_1.29.0.tgz PackageFileSize: 3.55 MiB