Package: mpra Version: 1.29.0 Command: /Library/Frameworks/R.framework/Resources/bin/R CMD check --install=check:mpra.install-out.txt --library=/Library/Frameworks/R.framework/Resources/library --no-vignettes --timings mpra_1.29.0.tar.gz StartedAt: 2025-02-09 20:16:29 -0500 (Sun, 09 Feb 2025) EndedAt: 2025-02-09 20:17:42 -0500 (Sun, 09 Feb 2025) EllapsedTime: 73.0 seconds RetCode: 0 Status: OK CheckDir: mpra.Rcheck Warnings: 0