Package: mpra Version: 1.29.0 Command: /home/biocbuild/R/R/bin/R CMD build --keep-empty-dirs --no-resave-data mpra StartedAt: 2025-01-29 00:36:58 -0000 (Wed, 29 Jan 2025) EndedAt: 2025-01-29 00:38:11 -0000 (Wed, 29 Jan 2025) EllapsedTime: 73.0 seconds RetCode: 0 Status: OK PackageFile: mpra_1.29.0.tar.gz PackageFileSize: 2.99 MiB