Package: mpra Version: 1.29.0 Command: /home/biocbuild/bbs-3.21-bioc/R/bin/R CMD build --keep-empty-dirs --no-resave-data mpra StartedAt: 2025-02-09 18:16:24 -0500 (Sun, 09 Feb 2025) EndedAt: 2025-02-09 18:17:15 -0500 (Sun, 09 Feb 2025) EllapsedTime: 51.0 seconds RetCode: 0 Status: OK PackageFile: mpra_1.29.0.tar.gz PackageFileSize: 3.079 MiB