Package: mpra Version: 1.29.0 Command: /home/biocbuild/bbs-3.21-bioc/R/bin/R CMD INSTALL mpra StartedAt: 2025-02-09 15:17:59 -0500 (Sun, 09 Feb 2025) EndedAt: 2025-02-09 15:18:23 -0500 (Sun, 09 Feb 2025) EllapsedTime: 23.9 seconds RetCode: 0 Status: OK