Package: mpra Version: 1.29.0 Command: rm -rf mpra.buildbin-libdir && mkdir mpra.buildbin-libdir && E:\biocbuild\bbs-3.21-bioc\R\bin\R.exe CMD INSTALL --build --library=mpra.buildbin-libdir mpra_1.29.0.tar.gz StartedAt: 2025-02-10 08:12:38 -0500 (Mon, 10 Feb 2025) EndedAt: 2025-02-10 08:13:09 -0500 (Mon, 10 Feb 2025) EllapsedTime: 31.1 seconds RetCode: 0 Status: OK PackageFile: mpra_1.29.0.zip PackageFileSize: 3.178 MiB