Package: mpra Version: 1.29.0 Command: chmod a+r mpra -R && E:\biocbuild\bbs-3.21-bioc\R\bin\R.exe CMD build --keep-empty-dirs --no-resave-data mpra StartedAt: 2025-02-09 20:05:38 -0500 (Sun, 09 Feb 2025) EndedAt: 2025-02-09 20:07:21 -0500 (Sun, 09 Feb 2025) EllapsedTime: 102.9 seconds RetCode: 0 Status: OK PackageFile: mpra_1.29.0.tar.gz PackageFileSize: 2.955 MiB