Package: msa Version: 1.39.0 Command: /Library/Frameworks/R.framework/Resources/bin/R CMD build --keep-empty-dirs --no-resave-data msa StartedAt: 2025-02-09 17:35:32 -0500 (Sun, 09 Feb 2025) EndedAt: 2025-02-09 17:43:01 -0500 (Sun, 09 Feb 2025) EllapsedTime: 448.6 seconds RetCode: 0 Status: OK PackageFile: msa_1.39.0.tar.gz PackageFileSize: 3.893 MiB