Package: msa Version: 1.39.0 Command: /home/biocbuild/bbs-3.21-bioc/R/bin/R CMD INSTALL msa StartedAt: 2025-02-09 15:31:23 -0500 (Sun, 09 Feb 2025) EndedAt: 2025-02-09 15:35:42 -0500 (Sun, 09 Feb 2025) EllapsedTime: 259.1 seconds RetCode: 0 Status: OK