Package: msa Version: 1.39.0 Command: rm -rf msa.buildbin-libdir && mkdir msa.buildbin-libdir && E:\biocbuild\bbs-3.21-bioc\R\bin\R.exe CMD INSTALL --build --library=msa.buildbin-libdir msa_1.39.0.tar.gz StartedAt: 2025-02-10 08:12:45 -0500 (Mon, 10 Feb 2025) EndedAt: 2025-02-10 08:20:57 -0500 (Mon, 10 Feb 2025) EllapsedTime: 491.4 seconds RetCode: 0 Status: OK PackageFile: msa_1.39.0.zip PackageFileSize: 1.947 MiB