Package: msa Version: 1.39.0 Command: chmod a+r msa -R && E:\biocbuild\bbs-3.21-bioc\R\bin\R.exe CMD build --keep-empty-dirs --no-resave-data msa StartedAt: 2025-02-09 20:05:47 -0500 (Sun, 09 Feb 2025) EndedAt: 2025-02-09 20:15:20 -0500 (Sun, 09 Feb 2025) EllapsedTime: 573.1 seconds RetCode: 0 Status: OK PackageFile: msa_1.39.0.tar.gz PackageFileSize: 3.891 MiB