Package: msa Version: 1.39.0 Command: E:\biocbuild\bbs-3.21-bioc\R\bin\R.exe CMD check --no-multiarch --install=check:msa.install-out.txt --library=E:\biocbuild\bbs-3.21-bioc\R\library --no-vignettes --timings msa_1.39.0.tar.gz StartedAt: 2025-02-10 03:14:00 -0500 (Mon, 10 Feb 2025) EndedAt: 2025-02-10 03:16:12 -0500 (Mon, 10 Feb 2025) EllapsedTime: 131.9 seconds RetCode: 0 Status: WARNINGS CheckDir: msa.Rcheck Warnings: 1