Package: msa Version: 1.39.0 Command: E:\biocbuild\bbs-3.21-bioc\R\bin\R.exe CMD INSTALL msa StartedAt: 2025-02-09 15:37:45 -0500 (Sun, 09 Feb 2025) EndedAt: 2025-02-09 15:45:36 -0500 (Sun, 09 Feb 2025) EllapsedTime: 471.8 seconds RetCode: 0 Status: OK