Package: msgbsR Version: 1.31.0 Maintainer: Benjamin Mayne MaintainerEmail: benjamin.mayne at adelaide.edu.au git_url: https://git.bioconductor.org/packages/msgbsR git_branch: devel git_last_commit: c7b70de git_last_commit_date: 2024-10-29 10:19:35 -0500 (Tue, 29 Oct 2024)