Package: msgbsR Version: 1.31.0 Command: rm -rf msgbsR.buildbin-libdir && mkdir msgbsR.buildbin-libdir && /Users/biocbuild/BBS/utils/build-universal.sh msgbsR_1.31.0.tar.gz /Library/Frameworks/R.framework/Resources/bin/R msgbsR.buildbin-libdir StartedAt: 2025-02-09 22:22:28 -0500 (Sun, 09 Feb 2025) EndedAt: 2025-02-09 22:22:53 -0500 (Sun, 09 Feb 2025) EllapsedTime: 25.5 seconds RetCode: 0 Status: OK PackageFile: msgbsR_1.31.0.tgz PackageFileSize: 15.29 MiB