Package: msgbsR Version: 1.31.0 Command: /Library/Frameworks/R.framework/Resources/bin/R CMD build --keep-empty-dirs --no-resave-data msgbsR StartedAt: 2025-02-09 17:03:00 -0500 (Sun, 09 Feb 2025) EndedAt: 2025-02-09 17:03:39 -0500 (Sun, 09 Feb 2025) EllapsedTime: 39.4 seconds RetCode: 0 Status: OK PackageFile: msgbsR_1.31.0.tar.gz PackageFileSize: 15.25 MiB