Package: msgbsR Version: 1.31.0 Command: /Library/Frameworks/R.framework/Resources/bin/R CMD INSTALL msgbsR StartedAt: 2025-02-09 15:18:06 -0500 (Sun, 09 Feb 2025) EndedAt: 2025-02-09 15:18:29 -0500 (Sun, 09 Feb 2025) EllapsedTime: 23.1 seconds RetCode: 0 Status: OK