Package: msgbsR Version: 1.31.0 Command: /home/biocbuild/R/R/bin/R CMD build --keep-empty-dirs --no-resave-data msgbsR StartedAt: 2025-01-29 00:39:04 -0000 (Wed, 29 Jan 2025) EndedAt: 2025-01-29 00:41:08 -0000 (Wed, 29 Jan 2025) EllapsedTime: 124.1 seconds RetCode: 0 Status: OK PackageFile: msgbsR_1.31.0.tar.gz PackageFileSize: 15.25 MiB