Package: msgbsR Version: 1.31.0 Command: /home/biocbuild/R/R/bin/R CMD check --install=check:msgbsR.install-out.txt --library=/home/biocbuild/R/R/site-library --no-vignettes --timings msgbsR_1.31.0.tar.gz StartedAt: 2025-01-28 12:53:47 -0000 (Tue, 28 Jan 2025) EndedAt: 2025-01-28 13:03:02 -0000 (Tue, 28 Jan 2025) EllapsedTime: 554.7 seconds RetCode: 0 Status: WARNINGS CheckDir: msgbsR.Rcheck Warnings: 5