Package: msgbsR Version: 1.31.0 Command: /home/biocbuild/R/R/bin/R CMD INSTALL msgbsR StartedAt: 2025-01-29 20:13:07 -0000 (Wed, 29 Jan 2025) EndedAt: 2025-01-29 20:14:27 -0000 (Wed, 29 Jan 2025) EllapsedTime: 80.2 seconds RetCode: 0 Status: OK