Package: msgbsR Version: 1.31.0 Command: /Library/Frameworks/R.framework/Resources/bin/R CMD build --keep-empty-dirs --no-resave-data msgbsR StartedAt: 2025-02-09 17:36:56 -0500 (Sun, 09 Feb 2025) EndedAt: 2025-02-09 17:39:18 -0500 (Sun, 09 Feb 2025) EllapsedTime: 141.5 seconds RetCode: 0 Status: OK PackageFile: msgbsR_1.31.0.tar.gz PackageFileSize: 15.25 MiB