Package: msgbsR Version: 1.31.0 Command: /Library/Frameworks/R.framework/Resources/bin/R CMD INSTALL msgbsR StartedAt: 2025-02-04 15:28:44 -0500 (Tue, 04 Feb 2025) EndedAt: 2025-02-04 15:30:01 -0500 (Tue, 04 Feb 2025) EllapsedTime: 76.6 seconds RetCode: 0 Status: OK