Package: msgbsR Version: 1.31.0 Command: /home/biocbuild/bbs-3.21-bioc/R/bin/R CMD build --keep-empty-dirs --no-resave-data msgbsR StartedAt: 2025-02-09 18:17:39 -0500 (Sun, 09 Feb 2025) EndedAt: 2025-02-09 18:19:11 -0500 (Sun, 09 Feb 2025) EllapsedTime: 92.1 seconds RetCode: 0 Status: OK PackageFile: msgbsR_1.31.0.tar.gz PackageFileSize: 15.25 MiB