Package: msgbsR Version: 1.31.0 Command: /home/biocbuild/bbs-3.21-bioc/R/bin/R CMD INSTALL msgbsR StartedAt: 2025-02-09 15:51:20 -0500 (Sun, 09 Feb 2025) EndedAt: 2025-02-09 15:52:17 -0500 (Sun, 09 Feb 2025) EllapsedTime: 57.2 seconds RetCode: 0 Status: OK