Package: msgbsR Version: 1.31.0 Command: rm -rf msgbsR.buildbin-libdir && mkdir msgbsR.buildbin-libdir && E:\biocbuild\bbs-3.21-bioc\R\bin\R.exe CMD INSTALL --build --library=msgbsR.buildbin-libdir msgbsR_1.31.0.tar.gz StartedAt: 2025-02-10 08:13:20 -0500 (Mon, 10 Feb 2025) EndedAt: 2025-02-10 08:14:24 -0500 (Mon, 10 Feb 2025) EllapsedTime: 63.9 seconds RetCode: 0 Status: OK PackageFile: msgbsR_1.31.0.zip PackageFileSize: 15.19 MiB