Package: msgbsR Version: 1.31.0 Command: chmod a+r msgbsR -R && E:\biocbuild\bbs-3.21-bioc\R\bin\R.exe CMD build --keep-empty-dirs --no-resave-data msgbsR StartedAt: 2025-02-09 20:07:25 -0500 (Sun, 09 Feb 2025) EndedAt: 2025-02-09 20:09:38 -0500 (Sun, 09 Feb 2025) EllapsedTime: 132.7 seconds RetCode: 0 Status: OK PackageFile: msgbsR_1.31.0.tar.gz PackageFileSize: 15.16 MiB