Package: msgbsR Version: 1.31.0 Command: E:\biocbuild\bbs-3.21-bioc\R\bin\R.exe CMD INSTALL msgbsR StartedAt: 2025-02-09 16:55:30 -0500 (Sun, 09 Feb 2025) EndedAt: 2025-02-09 16:56:31 -0500 (Sun, 09 Feb 2025) EllapsedTime: 61.2 seconds RetCode: 0 Status: OK