Package: mslp Version: 1.9.0 Command: rm -rf mslp.buildbin-libdir && mkdir mslp.buildbin-libdir && /Users/biocbuild/BBS/utils/build-universal.sh mslp_1.9.0.tar.gz /Library/Frameworks/R.framework/Resources/bin/R mslp.buildbin-libdir StartedAt: 2025-02-12 22:27:43 -0500 (Wed, 12 Feb 2025) EndedAt: 2025-02-12 22:27:45 -0500 (Wed, 12 Feb 2025) EllapsedTime: 2.1 seconds RetCode: 0 Status: OK PackageFile: mslp_1.9.0.tgz PackageFileSize: 453.4 KiB