Package: mslp Version: 1.9.0 Command: /Library/Frameworks/R.framework/Resources/bin/R CMD check --install=check:mslp.install-out.txt --library=/Library/Frameworks/R.framework/Resources/library --no-vignettes --timings mslp_1.9.0.tar.gz StartedAt: 2025-02-09 20:18:02 -0500 (Sun, 09 Feb 2025) EndedAt: 2025-02-09 20:18:36 -0500 (Sun, 09 Feb 2025) EllapsedTime: 34.4 seconds RetCode: 1 Status: ERROR CheckDir: mslp.Rcheck Warnings: NA