Package: mslp Version: 1.9.0 Command: /home/biocbuild/R/R/bin/R CMD check --install=check:mslp.install-out.txt --library=/home/biocbuild/R/R/site-library --no-vignettes --timings mslp_1.9.0.tar.gz StartedAt: 2025-01-28 12:54:01 -0000 (Tue, 28 Jan 2025) EndedAt: 2025-01-28 12:55:36 -0000 (Tue, 28 Jan 2025) EllapsedTime: 95.1 seconds RetCode: 1 Status: ERROR CheckDir: mslp.Rcheck Warnings: NA