Package: mslp Version: 1.9.0 Command: /home/biocbuild/R/R/bin/R CMD INSTALL mslp StartedAt: 2025-01-29 19:59:03 -0000 (Wed, 29 Jan 2025) EndedAt: 2025-01-29 19:59:06 -0000 (Wed, 29 Jan 2025) EllapsedTime: 2.7 seconds RetCode: 0 Status: OK