Package: mslp Version: 1.9.0 Command: /Library/Frameworks/R.framework/Resources/bin/R CMD check --install=check:mslp.install-out.txt --library=/Library/Frameworks/R.framework/Resources/library --no-vignettes --timings mslp_1.9.0.tar.gz StartedAt: 2025-02-09 22:08:43 -0500 (Sun, 09 Feb 2025) EndedAt: 2025-02-09 22:10:07 -0500 (Sun, 09 Feb 2025) EllapsedTime: 83.5 seconds RetCode: 0 Status: OK CheckDir: mslp.Rcheck Warnings: 0