Package: mslp Version: 1.9.0 Command: /Library/Frameworks/R.framework/Resources/bin/R CMD INSTALL mslp StartedAt: 2025-02-09 15:14:28 -0500 (Sun, 09 Feb 2025) EndedAt: 2025-02-09 15:14:33 -0500 (Sun, 09 Feb 2025) EllapsedTime: 5.0 seconds RetCode: 0 Status: OK