Package: mslp Version: 1.9.0 Command: /home/biocbuild/bbs-3.21-bioc/R/bin/R CMD check --install=check:mslp.install-out.txt --library=/home/biocbuild/bbs-3.21-bioc/R/site-library --timings mslp_1.9.0.tar.gz StartedAt: 2025-02-10 00:30:57 -0500 (Mon, 10 Feb 2025) EndedAt: 2025-02-10 00:32:39 -0500 (Mon, 10 Feb 2025) EllapsedTime: 101.2 seconds RetCode: 0 Status: OK CheckDir: mslp.Rcheck Warnings: 0