Package: mslp Version: 1.9.0 Command: rm -rf mslp.buildbin-libdir && mkdir mslp.buildbin-libdir && E:\biocbuild\bbs-3.21-bioc\R\bin\R.exe CMD INSTALL --build --library=mslp.buildbin-libdir mslp_1.9.0.tar.gz StartedAt: 2025-02-13 08:23:53 -0500 (Thu, 13 Feb 2025) EndedAt: 2025-02-13 08:24:01 -0500 (Thu, 13 Feb 2025) EllapsedTime: 7.4 seconds RetCode: 0 Status: OK PackageFile: mslp_1.9.0.zip PackageFileSize: 457.9 KiB