Package: mslp Version: 1.9.0 Command: chmod a+r mslp -R && E:\biocbuild\bbs-3.21-bioc\R\bin\R.exe CMD build --keep-empty-dirs --no-resave-data mslp StartedAt: 2025-02-09 20:07:39 -0500 (Sun, 09 Feb 2025) EndedAt: 2025-02-09 20:08:22 -0500 (Sun, 09 Feb 2025) EllapsedTime: 43.8 seconds RetCode: 0 Status: OK PackageFile: mslp_1.9.0.tar.gz PackageFileSize: 407.7 KiB