Package: mslp Version: 1.9.0 Command: E:\biocbuild\bbs-3.21-bioc\R\bin\R.exe CMD check --no-multiarch --install=check:mslp.install-out.txt --library=E:\biocbuild\bbs-3.21-bioc\R\library --no-vignettes --timings mslp_1.9.0.tar.gz StartedAt: 2025-02-10 03:17:59 -0500 (Mon, 10 Feb 2025) EndedAt: 2025-02-10 03:19:24 -0500 (Mon, 10 Feb 2025) EllapsedTime: 85.5 seconds RetCode: 0 Status: OK CheckDir: mslp.Rcheck Warnings: 0