Package: mspms Version: 0.99.7 Command: rm -rf mspms.buildbin-libdir && mkdir mspms.buildbin-libdir && /Users/biocbuild/BBS/utils/build-universal.sh mspms_0.99.7.tar.gz /Library/Frameworks/R.framework/Resources/bin/R mspms.buildbin-libdir StartedAt: 2025-02-09 22:22:31 -0500 (Sun, 09 Feb 2025) EndedAt: 2025-02-09 22:22:34 -0500 (Sun, 09 Feb 2025) EllapsedTime: 3.0 seconds RetCode: 0 Status: OK PackageFile: mspms_0.99.7.tgz PackageFileSize: 3.684 MiB