Package: mspms Version: 0.99.7 Command: /Library/Frameworks/R.framework/Resources/bin/R CMD check --install=check:mspms.install-out.txt --library=/Library/Frameworks/R.framework/Resources/library --no-vignettes --timings mspms_0.99.7.tar.gz StartedAt: 2025-02-09 20:19:02 -0500 (Sun, 09 Feb 2025) EndedAt: 2025-02-09 20:22:10 -0500 (Sun, 09 Feb 2025) EllapsedTime: 188.3 seconds RetCode: 0 Status: OK CheckDir: mspms.Rcheck Warnings: 0