Package: mspms Version: 0.99.7 Command: /home/biocbuild/R/R/bin/R CMD build --keep-empty-dirs --no-resave-data mspms StartedAt: 2025-01-29 00:40:31 -0000 (Wed, 29 Jan 2025) EndedAt: 2025-01-29 00:44:17 -0000 (Wed, 29 Jan 2025) EllapsedTime: 226.1 seconds RetCode: 0 Status: OK PackageFile: mspms_0.99.7.tar.gz PackageFileSize: 2.969 MiB