Package: mspms Version: 0.99.7 Command: /home/biocbuild/bbs-3.21-bioc/R/bin/R CMD build --keep-empty-dirs --no-resave-data mspms StartedAt: 2025-02-09 18:18:33 -0500 (Sun, 09 Feb 2025) EndedAt: 2025-02-09 18:21:03 -0500 (Sun, 09 Feb 2025) EllapsedTime: 150.2 seconds RetCode: 0 Status: OK PackageFile: mspms_0.99.7.tar.gz PackageFileSize: 3.337 MiB