Package: mspms Version: 0.99.7 Command: rm -rf mspms.buildbin-libdir && mkdir mspms.buildbin-libdir && E:\biocbuild\bbs-3.21-bioc\R\bin\R.exe CMD INSTALL --build --library=mspms.buildbin-libdir mspms_0.99.7.tar.gz StartedAt: 2025-02-10 08:13:50 -0500 (Mon, 10 Feb 2025) EndedAt: 2025-02-10 08:14:11 -0500 (Mon, 10 Feb 2025) EllapsedTime: 21.3 seconds RetCode: 0 Status: OK PackageFile: mspms_0.99.7.zip PackageFileSize: 3.067 MiB