Package: mspms Version: 0.99.7 Command: chmod a+r mspms -R && E:\biocbuild\bbs-3.21-bioc\R\bin\R.exe CMD build --keep-empty-dirs --no-resave-data mspms StartedAt: 2025-02-09 20:08:33 -0500 (Sun, 09 Feb 2025) EndedAt: 2025-02-09 20:12:47 -0500 (Sun, 09 Feb 2025) EllapsedTime: 253.3 seconds RetCode: 0 Status: OK PackageFile: mspms_0.99.7.tar.gz PackageFileSize: 2.844 MiB